Workbook

Sheet Budget
A1: SHORT-TERM BUDGET | K1: FRINGE RATE | AE1: Atlanta
A2: PROGRAM INFORMATION | K2: FACULTY | L2: 0.402 | AE2: Charlotte
A3: Program Title | F3: Term | H3: Year | I3: 2026/2027 | K3: GRADUATE STUDENTS | L3: 0.093 | AE3: Greenville/Spartanburg
A4: Location | F4: Start Date | H4: End Date | K4: STAFF | L4: 0.465
A5: Primary Program Director Name | F5: # of Days | G5: =(I4-G4)+1 -> 1
F6: Number of Students | G6: Ugrad | H6: Grad | I6: Grad Asst | K6: Mileage
A7: Project Number | G7: 1 | H7: 0 | I7: 0 | K7: Current Mileage Reimbursement Rate | L7: 0.7
A8: TUITION REVENUE & RELATED EXPENSES | K8: Aiport
D9: No. of Students | E9: =G7+H7+I7 -> 1 | K9: Miles Round Trip | L9: {=_xlfn.IFS(L8="Atlanta",268,L8="Charlotte",254,L8="Greenville/Spartanburg",112,L8="",0)} -> 0
F10: Ugrad | G10: Grad | H10: Grad Asst
A11: EMPLOYEE COSTS | K11: Faculty Recommended Currency Exchange Rates
A12: Faculty/Staff Name | K12: Date:
A13: Program Leader Travel Dates | K13: Date:
A14: Employee Type | B14: FACULTY | C14: FACULTY | K14: Date:
A15: Salary | B15: 0 | C15: 0 | D15: 0 | E15: 0 | I15: =SUM(B15:H15) -> 0 | K15: Date:
A16: Fringe | B16: {=_xlfn.IFS(B14="FACULTY",B15*$L$2,B14="GRADUATE STUDENTS",B15*$L$3,B14="STAFF",B15*$L$4,B14="",0)} -> 0 | C16: {=_xlfn.IFS(C14="FACULTY",C15*$L$2,C14="GRADUATE STUDENTS",C15*$L$3,C14="STAFF",C15*$L$4,C14="",0)} -> 0 | D16: {=_xlfn.IFS(D14="FACULTY",D15*$L$2,D14="GRADUATE STUDENTS",D15*$L$3,D14="STAFF",D15*$L$4,D14="",0)} -> 0 | E16: {=_xlfn.IFS(E14="FACULTY",E15*$L$2,E14="GRADUATE STUDENTS",E15*$L$3,E14="STAFF",E15*$L$4,E14="",0)} -> 0 | F16: {=_xlfn.IFS(F14="FACULTY",F15*$L$2,F14="GRADUATE STUDENTS",F15*$L$3,F14="STAFF",F15*$L$4,F14="",0)} -> 0 | G16: {=_xlfn.IFS(G14="FACULTY",G15*$L$2,G14="GRADUATE STUDENTS",G15*$L$3,G14="STAFF",G15*$L$4,G14="",0)} -> 0 | H16: {=_xlfn.IFS(H14="FACULTY",H15*$L$2,H14="GRADUATE STUDENTS",H15*$L$3,H14="STAFF",H15*$L$4,H14="",0)} -> 0 | I16: =SUM(B16:H16) -> 0
G17: Foreign Amount | H17: Exchange Rate | I17: USD Amount | K17: Balance Program Fee Submitted to Student Financial Services
A18: Airfare | G18: =SUM(B18:F18) -> 0 | H18: 1 | I18: =G18*H18 -> 0 | K18: Short-Term Program Application Fee | L18: 350
A19: Airport Mileage | B19: =L7*L9 -> 0 | G19: =SUM(B19:F19) -> 0 | H19: 1 | I19: =(G19*H19) -> 0 | K19: Short-Term Balance Program Fee | L19: =I66-L18 -> 2150
A20: On-site transportation | G20: =SUM(B20:F20) -> 0 | H20: 1 | I20: =G20*H20 -> 0
A21: Parking | G21: =SUM(B21:F21) -> 0 | H21: 1 | I21: =G21*H21 -> 0
A22: Baggage Fees | G22: =SUM(B22:F22) -> 0 | H22: 1 | I22: =G22*H22 -> 0 | K22: Supplier | L22: Total Amount Due to Supplier
A23: Other Faculty Expenses | G23: =SUM(B23:F23) -> 0 | H23: 1 | I23: =G23*H23 -> 0
A24: International Phone Usage | G24: =SUM(B24:F24) -> 0 | H24: 1 | I24: =G24*H24 -> 0
A25: Housing Site 1 | G25: =SUM(B25:F25) -> 0 | H25: 1 | I25: =G25*H25 -> 0
A26: Housing Site 2 | G26: =SUM(B26:F26) -> 0 | H26: 1 | I26: =G26*H26 -> 0
A27: Housing Site 3 | G27: =SUM(B27:F27) -> 0 | H27: 1 | I27: =G27*H27 -> 0
A28: Meals and Incidentals (use federal per diem rates to calculate total amounts) | B28: ='Travel Allowance Calculator'!G27 -> 0 | C28: ='Travel Allowance Calculator'!O27 -> 0 | D28: ='Travel Allowance Calculator'!W27 -> 0 | E28: ='Travel Allowance Calculator'!AE27 -> 0 | F28: ='Travel Allowance Calculator'!AM27 -> 0 | G28: =SUM(B28:F28) -> 0 | H28: 1 | I28: =G28*H28 -> 0
A29: Miscellaneous | G29: =SUM(B29:F29) -> 0 | H29: 1 | I29: =G29*H29 -> 0 | K29: Notes
A30: Excursion 1 | G30: =SUM(B30:F30) -> 0 | H30: 1 | I30: =G30*H30 -> 0 | K30: Previous Year Program Fee:
A31: Excursion 2 | G31: =SUM(B31:F31) -> 0 | H31: 1 | I31: =G31*H31 -> 0 | K31: Open to recruiting non-Clemson students:
A32: Excursion 3 | G32: =SUM(B32:F32) -> 0 | H32: 1 | I32: =G32*H32 -> 0 | K32: Planned recruiting and pre-departure events
A33: Monthly Insurance Rate ($45/month) | G33: =SUM(B33:F33) -> 0 | H33: 1 | I33: =G33*H33 -> 0 | K33: Application Deadline:
A34: Weekly Insurance Rate ($12/week) | G34: =SUM(B34:F34) -> 0 | H34: 1 | I34: =G34*H34 -> 0
A35: Visa Expenses | G35: =SUM(B35:F35) -> 0 | H35: 1 | I35: =G35*H35 -> 0
A36: Vaccinations | G36: =SUM(B36:F36) -> 0 | H36: 1 | I36: =G36*H36 -> 0
A37: FLAT RATE STUDENT COSTS
A38: Local Instructor(s) | G38: =SUM(B38:F38) -> 0 | H38: 1 | I38: =G38*H38 -> 0
A39: Host Institution(s) Fee | G39: =SUM(B39:F39) -> 0 | H39: 1 | I39: =G39*H39 -> 0
A40: Facility(s) Rental | G40: =SUM(B40:F40) -> 0 | H40: 1 | I40: =G40*H40 -> 0
...

Sheet Actuals
A2: Program Actuals
B3: Revenue
B4: UG Tuition Income | C4: 0
B5: GR/GA Tuition Income | C5: 0
B6: Application Fee Income | C6: 0
B7: Program Fee Income | C7: 0
B8: Other Income | C8: 0
B9: Total Revenue | C9: =SUM(C4:C8) -> 0
B11: Expenses
A12: 1301 | B12: Prepaid | C12: =SUMIF(Expenses!$F:$F,A12, Expenses!$L:$L) -> 0
A13: 6100 | B13: SA Faculty Lodging | C13: =SUMIF(Expenses!$F:$F,A13, Expenses!$L:$L) -> 0
A14: 6101 | B14: SA Faculty Meals | C14: =SUMIF(Expenses!$F:$F,A14, Expenses!$L:$L) -> 0
A15: 6102 | B15: SA Faculty Excursions | C15: =SUMIF(Expenses!$F:$F,A15, Expenses!$L:$L) -> 0
A16: 6103 | B16: SA Faculty Air Fare | C16: =SUMIF(Expenses!$F:$F,A16, Expenses!$L:$L) -> 0
A17: 6104 | B17: SA Faculty Mileage Reimbursement | C17: =SUMIF(Expenses!$F:$F,A17, Expenses!$L:$L) -> 0
A18: 6105 | B18: SA Faculty Registration Fees | C18: =SUMIF(Expenses!$F:$F,A18, Expenses!$L:$L) -> 0
A19: 6106 | B19: SA Student Lodging | C19: =SUMIF(Expenses!$F:$F,A19, Expenses!$L:$L) -> 0
A20: 6107 | B20: SA Student Meals | C20: =SUMIF(Expenses!$F:$F,A20, Expenses!$L:$L) -> 0
A21: 6108 | B21: SA Student Excursions | C21: =SUMIF(Expenses!$F:$F,A21, Expenses!$L:$L) -> 0
A22: 6109 | B22: SA Student Air Fare | C22: =SUMIF(Expenses!$F:$F,A22, Expenses!$L:$L) -> 0
A23: 6110 | B23: SA Student Registration Fees | C23: =SUMIF(Expenses!$F:$F,A23, Expenses!$L:$L) -> 0
... A26: 6113 | B26: SA Admin Fees | C26: =SUMIF(Expenses!$F:$F,A26, Expenses!$L:$L) -> 0
B27: Other | C27: =SUMIF(Expenses!$F:$F,">6999<8000", Expenses!$L:$L) -> 0
B28: Salary | C28: =SUMIF(Expenses!$F:$F,A28, Expenses!$L:$L) -> 0
B29: Fringe | C29: =SUMIF(Expenses!$F:$F,A29, Expenses!$L:$L) -> 0
B30: OGE Indirect | C30: =SUM(C4:C5)*0.15 -> 0
B31: Total Expenses | C31: =SUM(C12:C30) -> 0
B34: Surplus/Deficit | C34: =C9-C31 -> 0

Sheet Expenses

Sheet Tuition Revenue

Sheet Program Fee Revenue

Sheet Application Fee Revenue

Sheet Travel Allowance Calculator
A1: Meals and Incidentals (use federal per diem rates to calculate total amounts) | I1: Meals and Incidentals (use federal per diem rates to calculate total amounts) | Q1: Meals and Incidentals (use federal per diem rates to calculate total amounts) | Y1: Meals and Incidentals (use federal per diem rates to calculate total amounts) | AG1: Meals and Incidentals (use federal per diem rates to calculate total amounts)
A2: Location | B2: Bkft $$ | C2: Lunc $$ | D2: Dinner $$ | E2: IE $$ | F2: DAYS | G2: Travel Allowance | I2: Location | J2: Bkft $$ | K2: Lunc $$ | L2: Dinner $$ | M2: IE $$ | N2: DAYS | O2: Travel Allowance | Q2: Location | R2: Bkft $$ | S2: Lunc $$ | T2: Dinner $$ | U2: IE $$ | V2: DAYS | W2: Travel Allowance | Y2: Location | Z2: Bkft $$ | AA2: Lunc $$ | AB2: Dinner $$ | AC2: IE $$ | AD2: DAYS | AE2: Travel Allowance | AG2: Location | AH2: Bkft $$ | AI2: Lunc $$ | AJ2: Dinner $$ | AK2: IE $$ | AL2: DAYS | AM2: Travel Allowance
G3: =SUM(B3:E3)*F3 -> 0 | O3: =SUM(J3:M3)*N3 -> 0 | W3: =SUM(R3:U3)*V3 -> 0 | AE3: =SUM(Z3:AC3)*AD3 -> 0 | AM3: =SUM(AH3:AK3)*AL3 -> 0
G4: =SUM(B4:E4)*F4 -> 0 | O4: =SUM(J4:M4)*N4 -> 0 | W4: =SUM(R4:U4)*V4 -> 0 | AE4: =SUM(Z4:AC4)*AD4 -> 0 | AM4: =SUM(AH4:AK4)*AL4 -> 0
G5: =SUM(B5:E5)*F5 -> 0 | O5: =SUM(J5:M5)*N5 -> 0 | W5: =SUM(R5:U5)*V5 -> 0 | AE5: =SUM(Z5:AC5)*AD5 -> 0 | AM5: =SUM(AH5:AK5)*AL5 -> 0
G6: =SUM(B6:E6)*F6 -> 0 | O6: =SUM(J6:M6)*N6 -> 0 | W6: =SUM(R6:U6)*V6 -> 0 | AE6: =SUM(Z6:AC6)*AD6 -> 0 | AM6: =SUM(AH6:AK6)*AL6 -> 0
G7: =SUM(B7:E7)*F7 -> 0 | O7: =SUM(J7:M7)*N7 -> 0 | W7: =SUM(R7:U7)*V7 -> 0 | AE7: =SUM(Z7:AC7)*AD7 -> 0 | AM7: =SUM(AH7:AK7)*AL7 -> 0
G8: =SUM(B8:E8)*F8 -> 0 | O8: =SUM(J8:M8)*N8 -> 0 | W8: =SUM(R8:U8)*V8 -> 0 | AE8: =SUM(Z8:AC8)*AD8 -> 0 | AM8: =SUM(AH8:AK8)*AL8 -> 0
G9: =SUM(B9:E9)*F9 -> 0 | O9: =SUM(J9:M9)*N9 -> 0 | W9: =SUM(R9:U9)*V9 -> 0 | AE9: =SUM(Z9:AC9)*AD9 -> 0 | AM9: =SUM(AH9:AK9)*AL9 -> 0
G10: =SUM(B10:E10)*F10 -> 0 | O10: =SUM(J10:M10)*N10 -> 0 | W10: =SUM(R10:U10)*V10 -> 0 | AE10: =SUM(Z10:AC10)*AD10 -> 0 | AM10: =SUM(AH10:AK10)*AL10 -> 0
G11: =SUM(B11:E11)*F11 -> 0 | O11: =SUM(J11:M11)*N11 -> 0 | W11: =SUM(R11:U11)*V11 -> 0 | AE11: =SUM(Z11:AC11)*AD11 -> 0 | AM11: =SUM(AH11:AK11)*AL11 -> 0
G12: =SUM(B12:E12)*F12 -> 0 | O12: =SUM(J12:M12)*N12 -> 0 | W12: =SUM(R12:U12)*V12 -> 0 | AE12: =SUM(Z12:AC12)*AD12 -> 0 | AM12: =SUM(AH12:AK12)*AL12 -> 0
G13: =SUM(B13:E13)*F13 -> 0 | O13: =SUM(J13:M13)*N13 -> 0 | W13: =SUM(R13:U13)*V13 -> 0 | AE13: =SUM(Z13:AC13)*AD13 -> 0 | AM13: =SUM(AH13:AK13)*AL13 -> 0
G14: =SUM(B14:E14)*F14 -> 0 | O14: =SUM(J14:M14)*N14 -> 0 | W14: =SUM(R14:U14)*V14 -> 0 | AE14: =SUM(Z14:AC14)*AD14 -> 0 | AM14: =SUM(AH14:AK14)*AL14 -> 0
... G26: =SUM(B26:E26)*F26 -> 0 | O26: =SUM(J26:M26)*N26 -> 0 | W26: =SUM(R26:U26)*V26 -> 0 | AE26: =SUM(Z26:AC26)*AD26 -> 0 | AM26: =SUM(AH26:AK26)*AL26 -> 0
A27: Total | G27: =SUM(G3:G26) -> 0 | I27: Total | O27: =SUM(O3:O26) -> 0 | Q27: Total | W27: =SUM(W3:W26) -> 0 | Y27: Total | AE27: =SUM(AE3:AE26) -> 0 | AG27: Total | AM27: =SUM(AM3:AM26) -> 0
A29: =Budget!B12 -> 0 | I29: =Budget!C12 -> 0 | Q29: =Budget!D12 -> 0 | Y29: =Budget!E12 -> 0 | AG29: =Budget!F12 -> 0
